BEGIN:VCALENDAR
VERSION:2.0
PRODID:-//Kinderschutz BW - ECPv6.15.20//NONSGML v1.0//EN
CALSCALE:GREGORIAN
METHOD:PUBLISH
X-WR-CALNAME:Kinderschutz BW
X-ORIGINAL-URL:https://kinderschutz-bw.de
X-WR-CALDESC:Veranstaltungen für Kinderschutz BW
REFRESH-INTERVAL;VALUE=DURATION:PT1H
X-Robots-Tag:noindex
X-PUBLISHED-TTL:PT1H
BEGIN:VTIMEZONE
TZID:Europe/Berlin
BEGIN:DAYLIGHT
TZOFFSETFROM:+0100
TZOFFSETTO:+0200
TZNAME:CEST
DTSTART:20250330T010000
END:DAYLIGHT
BEGIN:STANDARD
TZOFFSETFROM:+0200
TZOFFSETTO:+0100
TZNAME:CET
DTSTART:20251026T010000
END:STANDARD
BEGIN:DAYLIGHT
TZOFFSETFROM:+0100
TZOFFSETTO:+0200
TZNAME:CEST
DTSTART:20260329T010000
END:DAYLIGHT
BEGIN:STANDARD
TZOFFSETFROM:+0200
TZOFFSETTO:+0100
TZNAME:CET
DTSTART:20261025T010000
END:STANDARD
BEGIN:DAYLIGHT
TZOFFSETFROM:+0100
TZOFFSETTO:+0200
TZNAME:CEST
DTSTART:20270328T010000
END:DAYLIGHT
BEGIN:STANDARD
TZOFFSETFROM:+0200
TZOFFSETTO:+0100
TZNAME:CET
DTSTART:20271031T010000
END:STANDARD
END:VTIMEZONE
BEGIN:VEVENT
DTSTART;TZID=Europe/Berlin:20260422T130000
DTEND;TZID=Europe/Berlin:20260422T140000
DTSTAMP:20260421T115103
CREATED:20260109T151303Z
LAST-MODIFIED:20260109T151303Z
UID:4205-1776862800-1776866400@kinderschutz-bw.de
SUMMARY:Wohnen und Wellbeing während und nach der elterlichen Trennung: Fokus Schweiz
DESCRIPTION:Mit dem Format der virtuellen Lunchbag Sessions „Familie am Mittag“ möchte die Abteilung Familie und Familienpolitik am DJI ihren Beitrag zum  gesellschaftlichen Diskurs über Familie leisten\, die zweifellos weiterhin als Keimzelle und Motor gesellschaftlicher Entwicklungen gelten kann. Der Anspruch ist\, wissenschaftlichen Output verständlich zu machen\, mit den Erfahrungen und der Expertise der Fachpraxis rückzukoppeln und in seinen interdisziplinären Bezügen und politischen Implikationen zu diskutieren. \nJede Session dauert 60 Minuten\, bestehend aus einem ca. 30-minütigen Vortragsteil mit anschließender Diskussion.
URL:https://kinderschutz-bw.de/event/wohnen-und-wellbeing-waehrend-und-nach-der-elterlichen-trennung-fokus-schweiz/
LOCATION:Baden-Württemberg
CATEGORIES:Fachkräfte der Kinder- und Jugendhilfe,Führungskräfte der Kinder- und Jugendhilfe,Justiz,Kinder- und Jugendhilfe,Personen, die mit Kindern und Jugendlichen arbeiten
END:VEVENT
BEGIN:VEVENT
DTSTART;TZID=Europe/Berlin:20260423T123000
DTEND;TZID=Europe/Berlin:20260423T140000
DTSTAMP:20260421T115103
CREATED:20260109T143102Z
LAST-MODIFIED:20260109T144735Z
UID:4182-1776947400-1776952800@kinderschutz-bw.de
SUMMARY:Wie Fake News unser Hirn hacken
DESCRIPTION:Warum verbreiten sich Falschinformationen so rasant – und warum wirken sie so überzeugend? Dieser Vortrag geht genau diesen Fragen nach und zeigt: Fake News treffen nicht nur auf Unwissen\, sondern auf grundlegende Mechanismen unseres Gehirns. \nGemeinsam mit dem Medienpädagogen Lukas Flad werfen wir einen Blick darauf\, wie unser Denken funktioniert – und wie es sich manipulieren lässt. Wir lernen\, wie einfache Bilder\, emotional aufgeladene Geschichten und schnelle Reize gezielt eingesetzt werden\, um unsere Wahrnehmung zu beeinflussen. \nDas Format vermittelt praxisnah und verständlich\, worauf wir achten können\, um uns im digitalen Alltag sicherer zu bewegen:\nWie erkennen wir typische Tricks und Mechanismen von Desinformation?\nWarum funktionieren Fake News auch bei informierten Menschen?\nWelche Rolle spielen Emotionen\, Algorithmen und Aufmerksamkeit?
URL:https://kinderschutz-bw.de/event/wie-fake-news-unser-hirn-hacken/
LOCATION:Baden-Württemberg
CATEGORIES:Gesellschaft
END:VEVENT
BEGIN:VEVENT
DTSTART;TZID=Europe/Berlin:20260429T110000
DTEND;TZID=Europe/Berlin:20260429T120000
DTSTAMP:20260421T115103
CREATED:20260219T124814Z
LAST-MODIFIED:20260219T124903Z
UID:4441-1777460400-1777464000@kinderschutz-bw.de
SUMMARY:Digital Dialog Kinderschutz: Kinder- und Jugendmedienschutz - digitales Aufwachsen begleiten
DESCRIPTION:
URL:https://kinderschutz-bw.de/event/digital-dialog-kinderschutz-kinder-und-jugendmedienschutz-digitales-aufwachsen-begleiten/
LOCATION:Digital
CATEGORIES:Fachkräfte der Kinder- und Jugendhilfe,Führungskräfte der Kinder- und Jugendhilfe,Kinder- und Jugendhilfe,pädagogische Fachkräfte,Personen, die mit Kindern und Jugendlichen arbeiten,Polizei
ORGANIZER;CN="FaFo FamilienForschung im Statistischen Landesamt BW":MAILTO:kinderschutz-fafo@stala.bwl.de
END:VEVENT
BEGIN:VEVENT
DTSTART;TZID=Europe/Berlin:20260429T180000
DTEND;TZID=Europe/Berlin:20260429T200000
DTSTAMP:20260421T115103
CREATED:20260311T133504Z
LAST-MODIFIED:20260311T133504Z
UID:4508-1777485600-1777492800@kinderschutz-bw.de
SUMMARY:BODY 2 BRAIN CCM® – emotionaler Notfallkoffer für Alltag und Beruf
DESCRIPTION:
URL:https://kinderschutz-bw.de/event/body-2-brain-ccm-emotionaler-notfallkoffer-fuer-alltag-und-beruf/
LOCATION:Karlsruhe
CATEGORIES:Fachkräfte der Kinder- und Jugendhilfe,Führungskräfte der Kinder- und Jugendhilfe,Gesellschaft,pädagogische Fachkräfte,Personen, die mit Kindern und Jugendlichen arbeiten
END:VEVENT
BEGIN:VEVENT
DTSTART;TZID=Europe/Berlin:20260506T100000
DTEND;TZID=Europe/Berlin:20260506T130000
DTSTAMP:20260421T115103
CREATED:20260413T151003Z
LAST-MODIFIED:20260413T151003Z
UID:4586-1778061600-1778072400@kinderschutz-bw.de
SUMMARY:SOZIALE ARBEIT ÜBER GRENZEN HINWEG: Länderübergreifende Zusammenarbeit in Kinderschutzfällen mit besonderer Beachtung von Fällen von Handel mit und Ausbeutung von Kindern und Jugendlichen
DESCRIPTION:
URL:https://kinderschutz-bw.de/event/soziale-arbeit-ueber-grenzen-hinweg-laenderuebergreifende-zusammenarbeit-in-kinderschutzfaellen-mit-besonderer-beachtung-von-faellen-von-handel-mit-und-ausbeutung-von-kindern-und-jugendlichen/
LOCATION:Baden-Württemberg
CATEGORIES:Fachkräfte der Kinder- und Jugendhilfe,Führungskräfte der Kinder- und Jugendhilfe,Justiz,Polizei
ORGANIZER;CN="Deutscher Verein f%C3%BCr %C3%B6ffentliche und private F%C3%BCrsorge e. V.":MAILTO:info@deutscher-verein.de
END:VEVENT
BEGIN:VEVENT
DTSTART;TZID=Europe/Berlin:20260506T123000
DTEND;TZID=Europe/Berlin:20260506T140000
DTSTAMP:20260421T115103
CREATED:20260109T144042Z
LAST-MODIFIED:20260109T144618Z
UID:4188-1778070600-1778076000@kinderschutz-bw.de
SUMMARY:Populisten auf TikTok stoppen. Wie rechte Parteien junge Zielgruppen digital erreichen – und was wir dagegen tun können
DESCRIPTION:Die politischen Machtverhältnisse verschieben sich – und Social Media spielt dabei eine zentrale Rolle. Besonders auf TikTok dominieren populistische Akteur:innen mit hoher Reichweite: emotional aufgeladen\, mit Fake News und vereinfachten Weltbildern\, die viral gehen. Während demokratische Stimmen im Netz oft zurückhaltender auftreten\, gewinnen andere mit gezieltem Emotionalisierungskalkül die Oberhand. \nWie lässt sich das ändern? \nIn diesem Online-Lunch zeigt Nina Scavello\, wie politische Akteure und Organisationen ihre Kommunikation strategisch verbessern können – ohne sich anzubiedern\, aber mit digitaler Klarheit\, Präsenz und Haltung. Sie erklärt\, welche Logiken Social Media Plattformen befeuern\, warum Algorithmen populistische Narrative bevorzugen – und was es braucht\, um dem etwas entgegenzusetzen. \nAls Mitgründerin der Agentur mecoa – Mediencoaching unterstützt sie Politiker:innen und Verbände dabei\, Social Media professionell zu nutzen und demokratische Kommunikation sichtbar zu machen. Im Vortrag wird sie sowohl Einblicke in die Plattformmechanismen geben als auch praktische Strategien vorstellen\, wie man Reichweite gewinnt\, ohne auf platte Vereinfachung zu setzen.
URL:https://kinderschutz-bw.de/event/populisten-auf-tiktok-stoppen-wie-rechte-parteien-junge-zielgruppen-digital-erreichen-und-was-wir-dagegen-tun-koennen/
LOCATION:Baden-Württemberg
CATEGORIES:Politik,Verbände und Vereine
END:VEVENT
BEGIN:VEVENT
DTSTART;TZID=Europe/Berlin:20260611T123000
DTEND;TZID=Europe/Berlin:20260611T140000
DTSTAMP:20260421T115103
CREATED:20260109T144545Z
LAST-MODIFIED:20260109T144545Z
UID:4192-1781181000-1781186400@kinderschutz-bw.de
SUMMARY:Warum wir nicht aufhören können zu scrollen
DESCRIPTION:TikTok\, Instagram\, YouTube – und plötzlich ist eine Stunde vergangen. Warum ist es so schwer\, das Handy wegzulegen? Was passiert da eigentlich in unserem Kopf? In diesem Online-Format geht Medienpädagoge Lukas Flad genau diesen Fragen auf den Grund. Der Vortrag beleuchtet die psychologischen Mechanismen hinter der Sogwirkung von Social-Media-Plattformen: von Algorithmen über Dopamin bis zu personalisierten Belohnungsschleifen. \nDabei geht es auch um die gesellschaftlichen Folgen: \nWie entstehen Filterblasen? \nWarum erhalten extreme Inhalte mehr Reichweite? \nUnd was bedeutet das für die demokratische Debattenkultur? \n  \nNeben fundiertem Wissen bietet das Format praxisnahe Impulse\, wie ein gesunder und reflektierter Umgang mit Social Media im Alltag – und in der pädagogischen Arbeit – gelingen kann.
URL:https://kinderschutz-bw.de/event/warum-wir-nicht-aufhoeren-koennen-zu-scrollen/
LOCATION:Baden-Württemberg
CATEGORIES:Gesellschaft,pädagogische Fachkräfte,Personen, die mit Kindern und Jugendlichen arbeiten
END:VEVENT
BEGIN:VEVENT
DTSTART;TZID=Europe/Berlin:20260616T100000
DTEND;TZID=Europe/Berlin:20260616T170000
DTSTAMP:20260421T115103
CREATED:20260210T075235Z
LAST-MODIFIED:20260210T075235Z
UID:4355-1781604000-1781629200@kinderschutz-bw.de
SUMMARY:Inklusiver Kinder- und Jugendschutz in der Praxis
DESCRIPTION:
URL:https://kinderschutz-bw.de/event/inklusiver-kinder-und-jugendschutz-in-der-praxis/
LOCATION:Baden-Württemberg
CATEGORIES:Fachkräfte der Kinder- und Jugendhilfe,Führungskräfte der Kinder- und Jugendhilfe,pädagogische Fachkräfte
END:VEVENT
BEGIN:VEVENT
DTSTART;TZID=Europe/Berlin:20260623T090000
DTEND;TZID=Europe/Berlin:20260623T120000
DTSTAMP:20260421T115103
CREATED:20260415T133723Z
LAST-MODIFIED:20260415T133929Z
UID:4593-1782205200-1782216000@kinderschutz-bw.de
SUMMARY:Sicher im Netz – Jugendliche schützen\, digitale Medien kompetent begleiten
DESCRIPTION:
URL:https://kinderschutz-bw.de/event/sicher-im-netz-jugendliche-schuetzen-digitale-medien-kompetent-begleiten/
LOCATION:Haus der Jugend\, Jugendbildungswerk Freiburg\, Uhlandstraße 2\, Freiburg\, Baden-Württemberg\, 79102\, Germany
CATEGORIES:Eltern / Familie,Fachkräfte der Kinder- und Jugendhilfe,Kinder- und Jugendhilfe,pädagogische Fachkräfte,Personen, die mit Kindern und Jugendlichen arbeiten
END:VEVENT
BEGIN:VEVENT
DTSTART;TZID=Europe/Berlin:20260624T180000
DTEND;TZID=Europe/Berlin:20260624T200000
DTSTAMP:20260421T115103
CREATED:20260309T104916Z
LAST-MODIFIED:20260309T104943Z
UID:4479-1782324000-1782331200@kinderschutz-bw.de
SUMMARY:Forensik im Dialog: psychiatrische und psychotherapeutische Behandlungslogiken
DESCRIPTION:
URL:https://kinderschutz-bw.de/event/forensik-im-dialog-psychiatrische-und-psychotherapeutische-behandlungslogiken/
LOCATION:Karlsruhe
CATEGORIES:Fachkräfte der Kinder- und Jugendhilfe,Kinder- und Jugendhilfe,pädagogische Fachkräfte,Personen, die mit Kindern und Jugendlichen arbeiten,Polizei
END:VEVENT
BEGIN:VEVENT
DTSTART;TZID=Europe/Berlin:20260714T100000
DTEND;TZID=Europe/Berlin:20260714T170000
DTSTAMP:20260421T115103
CREATED:20260210T133216Z
LAST-MODIFIED:20260210T133528Z
UID:4372-1784023200-1784048400@kinderschutz-bw.de
SUMMARY:SAVE THE DATE: 17. Kinderschutztag
DESCRIPTION:
URL:https://kinderschutz-bw.de/event/save-the-date-17-kinderschutztag/
LOCATION:Hospitalhof\, Büchsenstraße 33\, Stuttgart\, 70174
CATEGORIES:Fachkräfte der Kinder- und Jugendhilfe,Führungskräfte der Kinder- und Jugendhilfe,Kinder- und Jugendhilfe,pädagogische Fachkräfte,Personen, die mit Kindern und Jugendlichen arbeiten,Politik,Polizei,Verbände und Vereine
END:VEVENT
BEGIN:VEVENT
DTSTART;TZID=Europe/Berlin:20260722T130000
DTEND;TZID=Europe/Berlin:20260722T140000
DTSTAMP:20260421T115103
CREATED:20260109T151459Z
LAST-MODIFIED:20260109T151459Z
UID:4207-1784725200-1784728800@kinderschutz-bw.de
SUMMARY:Inklusive Schutzkonzepte in stationären Einrichtungen der Kinder- und Jugendhilfe
DESCRIPTION:Mit dem Format der virtuellen Lunchbag Sessions „Familie am Mittag“ möchte die Abteilung Familie und Familienpolitik am DJI ihren Beitrag zum  gesellschaftlichen Diskurs über Familie leisten\, die zweifellos weiterhin als Keimzelle und Motor gesellschaftlicher Entwicklungen gelten kann. Der Anspruch ist\, wissenschaftlichen Output verständlich zu machen\, mit den Erfahrungen und der Expertise der Fachpraxis rückzukoppeln und in seinen interdisziplinären Bezügen und politischen Implikationen zu diskutieren. \nJede Session dauert 60 Minuten\, bestehend aus einem ca. 30-minütigen Vortragsteil mit anschließender Diskussion.
URL:https://kinderschutz-bw.de/event/inklusive-schutzkonzepte-in-stationaeren-einrichtungen-der-kinder-und-jugendhilfe/
LOCATION:Baden-Württemberg
CATEGORIES:Fachkräfte der Kinder- und Jugendhilfe,Führungskräfte der Kinder- und Jugendhilfe,Kinder- und Jugendhilfe
END:VEVENT
BEGIN:VEVENT
DTSTART;TZID=Europe/Berlin:20260924T140000
DTEND;TZID=Europe/Berlin:20260924T160000
DTSTAMP:20260421T115103
CREATED:20260309T123417Z
LAST-MODIFIED:20260309T123814Z
UID:4482-1790258400-1790265600@kinderschutz-bw.de
SUMMARY:DigiSeminar: Besonderheiten des Datenschutzes bei Kindern und Jugendlichen
DESCRIPTION:
URL:https://kinderschutz-bw.de/event/digiseminar-besonderheiten-des-datenschutzes-bei-kindern-und-jugendlichen/
LOCATION:Digital
CATEGORIES:Fachkräfte der Kinder- und Jugendhilfe,Führungskräfte der Kinder- und Jugendhilfe,pädagogische Fachkräfte,Personen, die mit Kindern und Jugendlichen arbeiten,Verbände und Vereine
END:VEVENT
BEGIN:VEVENT
DTSTART;TZID=Europe/Berlin:20261014T130000
DTEND;TZID=Europe/Berlin:20261014T140000
DTSTAMP:20260421T115103
CREATED:20260109T151819Z
LAST-MODIFIED:20260109T151819Z
UID:4209-1791982800-1791986400@kinderschutz-bw.de
SUMMARY:Psychische Belastungen von Eltern mit kleinen Kindern: Befunde aus der NZFH-Forschung
DESCRIPTION:Mit dem Format der virtuellen Lunchbag Sessions „Familie am Mittag“ möchte die Abteilung Familie und Familienpolitik am DJI ihren Beitrag zum  gesellschaftlichen Diskurs über Familie leisten\, die zweifellos weiterhin als Keimzelle und Motor gesellschaftlicher Entwicklungen gelten kann. Der Anspruch ist\, wissenschaftlichen Output verständlich zu machen\, mit den Erfahrungen und der Expertise der Fachpraxis rückzukoppeln und in seinen interdisziplinären Bezügen und politischen Implikationen zu diskutieren. \nJede Session dauert 60 Minuten\, bestehend aus einem ca. 30-minütigen Vortragsteil mit anschließender Diskussion.
URL:https://kinderschutz-bw.de/event/psychische-belastungen-von-eltern-mit-kleinen-kindern-befunde-aus-der-nzfh-forschung/
LOCATION:Baden-Württemberg
CATEGORIES:Fachkräfte der Kinder- und Jugendhilfe,Kinder- und Jugendhilfe
END:VEVENT
BEGIN:VEVENT
DTSTART;TZID=Europe/Berlin:20261125T090000
DTEND;TZID=Europe/Berlin:20261125T160000
DTSTAMP:20260421T115103
CREATED:20260305T132840Z
LAST-MODIFIED:20260305T135606Z
UID:4461-1795597200-1795622400@kinderschutz-bw.de
SUMMARY:Fortbildung für Suchtfachkräfte: Vapes & Snus – Prävention\, die Jugendliche erreicht
DESCRIPTION:
URL:https://kinderschutz-bw.de/event/fortbildung-fuer-suchtfachkraefte-vapes-snus-praevention-die-jugendliche-erreicht/
LOCATION:Digital
CATEGORIES:Fachkräfte der Kinder- und Jugendhilfe,Kinder- und Jugendhilfe,pädagogische Fachkräfte,Personen, die mit Kindern und Jugendlichen arbeiten
END:VEVENT
BEGIN:VEVENT
DTSTART;TZID=Europe/Berlin:20261125T130000
DTEND;TZID=Europe/Berlin:20261125T140000
DTSTAMP:20260421T115103
CREATED:20260109T151856Z
LAST-MODIFIED:20260109T151909Z
UID:4211-1795611600-1795615200@kinderschutz-bw.de
SUMMARY:Zum Stand der Frühen Hilfen in Deutschland. Ergebnisse aus der NZFH-Kommunalbefragung 2025
DESCRIPTION:Mit dem Format der virtuellen Lunchbag Sessions „Familie am Mittag“ möchte die Abteilung Familie und Familienpolitik am DJI ihren Beitrag zum  gesellschaftlichen Diskurs über Familie leisten\, die zweifellos weiterhin als Keimzelle und Motor gesellschaftlicher Entwicklungen gelten kann. Der Anspruch ist\, wissenschaftlichen Output verständlich zu machen\, mit den Erfahrungen und der Expertise der Fachpraxis rückzukoppeln und in seinen interdisziplinären Bezügen und politischen Implikationen zu diskutieren. \nJede Session dauert 60 Minuten\, bestehend aus einem ca. 30-minütigen Vortragsteil mit anschließender Diskussion.
URL:https://kinderschutz-bw.de/event/zum-stand-der-fruehen-hilfen-in-deutschland-ergebnisse-aus-der-nzfh-kommunalbefragung-2025/
LOCATION:Baden-Württemberg
CATEGORIES:Fachkräfte der Kinder- und Jugendhilfe,Kinder- und Jugendhilfe
END:VEVENT
END:VCALENDAR